BEGIN:VCALENDAR
VERSION:2.0
PRODID:-//Kuusamon Erä-Veikot Ry - ECPv6.15.18//NONSGML v1.0//EN
CALSCALE:GREGORIAN
METHOD:PUBLISH
X-WR-CALNAME:Kuusamon Erä-Veikot Ry
X-ORIGINAL-URL:https://kev.fi
X-WR-CALDESC:Tapahtumat Kuusamon Erä-Veikot Ry
REFRESH-INTERVAL;VALUE=DURATION:PT1H
X-Robots-Tag:noindex
X-PUBLISHED-TTL:PT1H
BEGIN:VTIMEZONE
TZID:Europe/Helsinki
BEGIN:DAYLIGHT
TZOFFSETFROM:+0200
TZOFFSETTO:+0300
TZNAME:EEST
DTSTART:20250330T010000
END:DAYLIGHT
BEGIN:STANDARD
TZOFFSETFROM:+0300
TZOFFSETTO:+0200
TZNAME:EET
DTSTART:20251026T010000
END:STANDARD
BEGIN:DAYLIGHT
TZOFFSETFROM:+0200
TZOFFSETTO:+0300
TZNAME:EEST
DTSTART:20260329T010000
END:DAYLIGHT
BEGIN:STANDARD
TZOFFSETFROM:+0300
TZOFFSETTO:+0200
TZNAME:EET
DTSTART:20261025T010000
END:STANDARD
BEGIN:DAYLIGHT
TZOFFSETFROM:+0200
TZOFFSETTO:+0300
TZNAME:EEST
DTSTART:20270328T010000
END:DAYLIGHT
BEGIN:STANDARD
TZOFFSETFROM:+0300
TZOFFSETTO:+0200
TZNAME:EET
DTSTART:20271031T010000
END:STANDARD
END:VTIMEZONE
BEGIN:VEVENT
DTSTART;TZID=Europe/Helsinki:20260506T170000
DTEND;TZID=Europe/Helsinki:20260506T190000
DTSTAMP:20260421T123224
CREATED:20260417T092043Z
LAST-MODIFIED:20260417T092153Z
UID:21486-1778086800-1778094000@kev.fi
SUMMARY:Kuusamorastit
DESCRIPTION:
URL:https://kev.fi/tapahtuma/kuusamorastit/2026-05-06/
END:VEVENT
BEGIN:VEVENT
DTSTART;TZID=Europe/Helsinki:20260513T170000
DTEND;TZID=Europe/Helsinki:20260513T190000
DTSTAMP:20260421T123224
CREATED:20260417T092043Z
LAST-MODIFIED:20260417T092153Z
UID:21487-1778691600-1778698800@kev.fi
SUMMARY:Kuusamorastit
DESCRIPTION:
URL:https://kev.fi/tapahtuma/kuusamorastit/2026-05-13/
END:VEVENT
BEGIN:VEVENT
DTSTART;TZID=Europe/Helsinki:20260520T170000
DTEND;TZID=Europe/Helsinki:20260520T190000
DTSTAMP:20260421T123224
CREATED:20260417T092043Z
LAST-MODIFIED:20260417T092153Z
UID:21488-1779296400-1779303600@kev.fi
SUMMARY:Kuusamorastit
DESCRIPTION:
URL:https://kev.fi/tapahtuma/kuusamorastit/2026-05-20/
END:VEVENT
BEGIN:VEVENT
DTSTART;TZID=Europe/Helsinki:20260527T170000
DTEND;TZID=Europe/Helsinki:20260527T190000
DTSTAMP:20260421T123224
CREATED:20260417T092043Z
LAST-MODIFIED:20260417T092153Z
UID:21489-1779901200-1779908400@kev.fi
SUMMARY:Kuusamorastit
DESCRIPTION:
URL:https://kev.fi/tapahtuma/kuusamorastit/2026-05-27/
END:VEVENT
BEGIN:VEVENT
DTSTART;TZID=Europe/Helsinki:20260603T170000
DTEND;TZID=Europe/Helsinki:20260603T190000
DTSTAMP:20260421T123224
CREATED:20260417T092043Z
LAST-MODIFIED:20260417T092153Z
UID:21490-1780506000-1780513200@kev.fi
SUMMARY:Kuusamorastit
DESCRIPTION:
URL:https://kev.fi/tapahtuma/kuusamorastit/2026-06-03/
END:VEVENT
BEGIN:VEVENT
DTSTART;TZID=Europe/Helsinki:20260610T170000
DTEND;TZID=Europe/Helsinki:20260610T190000
DTSTAMP:20260421T123224
CREATED:20260417T092043Z
LAST-MODIFIED:20260417T092154Z
UID:21491-1781110800-1781118000@kev.fi
SUMMARY:Kuusamorastit
DESCRIPTION:
URL:https://kev.fi/tapahtuma/kuusamorastit/2026-06-10/
END:VEVENT
BEGIN:VEVENT
DTSTART;TZID=Europe/Helsinki:20260617T170000
DTEND;TZID=Europe/Helsinki:20260617T190000
DTSTAMP:20260421T123224
CREATED:20260417T092043Z
LAST-MODIFIED:20260417T092154Z
UID:21492-1781715600-1781722800@kev.fi
SUMMARY:Kuusamorastit
DESCRIPTION:
URL:https://kev.fi/tapahtuma/kuusamorastit/2026-06-17/
END:VEVENT
BEGIN:VEVENT
DTSTART;TZID=Europe/Helsinki:20260624T170000
DTEND;TZID=Europe/Helsinki:20260624T190000
DTSTAMP:20260421T123224
CREATED:20260417T092043Z
LAST-MODIFIED:20260417T092154Z
UID:21493-1782320400-1782327600@kev.fi
SUMMARY:Kuusamorastit
DESCRIPTION:
URL:https://kev.fi/tapahtuma/kuusamorastit/2026-06-24/
END:VEVENT
BEGIN:VEVENT
DTSTART;TZID=Europe/Helsinki:20260701T170000
DTEND;TZID=Europe/Helsinki:20260701T190000
DTSTAMP:20260421T123224
CREATED:20260417T092043Z
LAST-MODIFIED:20260417T092154Z
UID:21494-1782925200-1782932400@kev.fi
SUMMARY:Kuusamorastit
DESCRIPTION:
URL:https://kev.fi/tapahtuma/kuusamorastit/2026-07-01/
END:VEVENT
BEGIN:VEVENT
DTSTART;TZID=Europe/Helsinki:20260708T170000
DTEND;TZID=Europe/Helsinki:20260708T190000
DTSTAMP:20260421T123224
CREATED:20260417T092043Z
LAST-MODIFIED:20260417T092155Z
UID:21495-1783530000-1783537200@kev.fi
SUMMARY:Kuusamorastit
DESCRIPTION:
URL:https://kev.fi/tapahtuma/kuusamorastit/2026-07-08/
END:VEVENT
BEGIN:VEVENT
DTSTART;TZID=Europe/Helsinki:20260715T170000
DTEND;TZID=Europe/Helsinki:20260715T190000
DTSTAMP:20260421T123224
CREATED:20260417T092043Z
LAST-MODIFIED:20260417T092155Z
UID:21496-1784134800-1784142000@kev.fi
SUMMARY:Kuusamorastit
DESCRIPTION:
URL:https://kev.fi/tapahtuma/kuusamorastit/2026-07-15/
END:VEVENT
BEGIN:VEVENT
DTSTART;TZID=Europe/Helsinki:20260722T170000
DTEND;TZID=Europe/Helsinki:20260722T190000
DTSTAMP:20260421T123224
CREATED:20260417T092043Z
LAST-MODIFIED:20260417T092202Z
UID:21498-1784739600-1784746800@kev.fi
SUMMARY:Kuusamorastit
DESCRIPTION:
URL:https://kev.fi/tapahtuma/kuusamorastit/2026-07-22/
END:VEVENT
BEGIN:VEVENT
DTSTART;TZID=Europe/Helsinki:20260729T170000
DTEND;TZID=Europe/Helsinki:20260729T190000
DTSTAMP:20260421T123224
CREATED:20260417T092043Z
LAST-MODIFIED:20260417T092203Z
UID:21499-1785344400-1785351600@kev.fi
SUMMARY:Kuusamorastit
DESCRIPTION:
URL:https://kev.fi/tapahtuma/kuusamorastit/2026-07-29/
END:VEVENT
BEGIN:VEVENT
DTSTART;TZID=Europe/Helsinki:20260805T170000
DTEND;TZID=Europe/Helsinki:20260805T190000
DTSTAMP:20260421T123224
CREATED:20260417T092043Z
LAST-MODIFIED:20260417T092203Z
UID:21500-1785949200-1785956400@kev.fi
SUMMARY:Kuusamorastit
DESCRIPTION:
URL:https://kev.fi/tapahtuma/kuusamorastit/2026-08-05/
END:VEVENT
BEGIN:VEVENT
DTSTART;TZID=Europe/Helsinki:20260812T170000
DTEND;TZID=Europe/Helsinki:20260812T190000
DTSTAMP:20260421T123224
CREATED:20260417T092043Z
LAST-MODIFIED:20260417T092203Z
UID:21501-1786554000-1786561200@kev.fi
SUMMARY:Kuusamorastit
DESCRIPTION:
URL:https://kev.fi/tapahtuma/kuusamorastit/2026-08-12/
END:VEVENT
BEGIN:VEVENT
DTSTART;TZID=Europe/Helsinki:20260819T170000
DTEND;TZID=Europe/Helsinki:20260819T190000
DTSTAMP:20260421T123224
CREATED:20260417T092043Z
LAST-MODIFIED:20260417T092203Z
UID:21502-1787158800-1787166000@kev.fi
SUMMARY:Kuusamorastit
DESCRIPTION:
URL:https://kev.fi/tapahtuma/kuusamorastit/2026-08-19/
END:VEVENT
BEGIN:VEVENT
DTSTART;TZID=Europe/Helsinki:20260826T170000
DTEND;TZID=Europe/Helsinki:20260826T190000
DTSTAMP:20260421T123224
CREATED:20260417T092043Z
LAST-MODIFIED:20260417T092203Z
UID:21503-1787763600-1787770800@kev.fi
SUMMARY:Kuusamorastit
DESCRIPTION:
URL:https://kev.fi/tapahtuma/kuusamorastit/2026-08-26/
END:VEVENT
BEGIN:VEVENT
DTSTART;TZID=Europe/Helsinki:20260902T170000
DTEND;TZID=Europe/Helsinki:20260902T190000
DTSTAMP:20260421T123224
CREATED:20260417T092043Z
LAST-MODIFIED:20260417T092204Z
UID:21504-1788368400-1788375600@kev.fi
SUMMARY:Kuusamorastit
DESCRIPTION:
URL:https://kev.fi/tapahtuma/kuusamorastit/2026-09-02/
END:VEVENT
BEGIN:VEVENT
DTSTART;TZID=Europe/Helsinki:20260909T170000
DTEND;TZID=Europe/Helsinki:20260909T190000
DTSTAMP:20260421T123224
CREATED:20260417T092043Z
LAST-MODIFIED:20260417T092204Z
UID:21505-1788973200-1788980400@kev.fi
SUMMARY:Kuusamorastit
DESCRIPTION:
URL:https://kev.fi/tapahtuma/kuusamorastit/2026-09-09/
END:VEVENT
BEGIN:VEVENT
DTSTART;TZID=Europe/Helsinki:20260916T170000
DTEND;TZID=Europe/Helsinki:20260916T190000
DTSTAMP:20260421T123224
CREATED:20260417T092043Z
LAST-MODIFIED:20260417T092204Z
UID:21506-1789578000-1789585200@kev.fi
SUMMARY:Kuusamorastit
DESCRIPTION:
URL:https://kev.fi/tapahtuma/kuusamorastit/2026-09-16/
END:VEVENT
BEGIN:VEVENT
DTSTART;TZID=Europe/Helsinki:20260923T170000
DTEND;TZID=Europe/Helsinki:20260923T190000
DTSTAMP:20260421T123224
CREATED:20260417T092043Z
LAST-MODIFIED:20260417T092204Z
UID:21507-1790182800-1790190000@kev.fi
SUMMARY:Kuusamorastit
DESCRIPTION:
URL:https://kev.fi/tapahtuma/kuusamorastit/2026-09-23/
END:VEVENT
END:VCALENDAR